BEGIN:VCALENDAR
VERSION:2.0
PRODID:-//Promo P.A. - ECPv5.6.0//NONSGML v1.0//EN
CALSCALE:GREGORIAN
METHOD:PUBLISH
X-WR-CALNAME:Promo P.A.
X-ORIGINAL-URL:https://www.promopa.it
X-WR-CALDESC:Eventi per Promo P.A.
BEGIN:VTIMEZONE
TZID:Europe/Rome
BEGIN:DAYLIGHT
TZOFFSETFROM:+0100
TZOFFSETTO:+0200
TZNAME:CEST
DTSTART:20260329T010000
END:DAYLIGHT
BEGIN:STANDARD
TZOFFSETFROM:+0200
TZOFFSETTO:+0100
TZNAME:CET
DTSTART:20261025T010000
END:STANDARD
END:VTIMEZONE
BEGIN:VEVENT
DTSTART;TZID=Europe/Rome:20260318T093000
DTEND;TZID=Europe/Rome:20260318T113000
DTSTAMP:20260420T112533
CREATED:20260224T115531Z
LAST-MODIFIED:20260224T115531Z
UID:149612-1773826200-1773833400@www.promopa.it
SUMMARY:Webinar “Procurement e uso dell’intelligenza artificiale nella PA”
DESCRIPTION:Il 18 marzo 2026 dalle ore 9:30 alle 11:30 si terrà il Webinar gratuito organizzato dall’Osservatorio AI4PA “Procurement e uso dell’intelligenza artificiale nella PA”. \nL’incontro intende approfondire le modalità di scelta\, acquisizione e utilizzo degli strumenti di intelligenza artificiale nelle pubbliche amministrazioni\, con attenzione ai costi per un impiego sicuro\, trasparente e conforme al quadro normativo. \nVedi il programma ed iscriviti
URL:https://www.promopa.it/evento/webinar-procurement-e-uso-dellintelligenza-artificiale-nella-pa/
LOCATION:Online\, Piattaforma Zoom
CATEGORIES:Agenda,Convegni
ATTACH;FMTTYPE=image/jpeg:https://www.promopa.it/wp-content/uploads/2024/06/icona_AI4PA.jpg
END:VEVENT
END:VCALENDAR