BEGIN:VCALENDAR
VERSION:2.0
PRODID:-//Promo P.A. - ECPv5.6.0//NONSGML v1.0//EN
CALSCALE:GREGORIAN
METHOD:PUBLISH
X-WR-CALNAME:Promo P.A.
X-ORIGINAL-URL:https://www.promopa.it
X-WR-CALDESC:Eventi per Promo P.A.
BEGIN:VTIMEZONE
TZID:Europe/Rome
BEGIN:DAYLIGHT
TZOFFSETFROM:+0100
TZOFFSETTO:+0200
TZNAME:CEST
DTSTART:20250330T010000
END:DAYLIGHT
BEGIN:STANDARD
TZOFFSETFROM:+0200
TZOFFSETTO:+0100
TZNAME:CET
DTSTART:20251026T010000
END:STANDARD
END:VTIMEZONE
BEGIN:VEVENT
DTSTART;TZID=Europe/Rome:20250410T093000
DTEND;TZID=Europe/Rome:20250410T130000
DTSTAMP:20260421T105352
CREATED:20250310T150117Z
LAST-MODIFIED:20250403T102015Z
UID:133216-1744277400-1744290000@www.promopa.it
SUMMARY:LA REVISIONE DEL SISTEMA ENERGETICO FONDATO SULLE CER NEL QUADRO DELLA DOPPIA TRANSIZIONE
DESCRIPTION:LA REVISIONE DEL SISTEMA ENERGETICO FONDATO SULLE CER NEL QUADRO DELLA DOPPIA TRANSIZIONE\n10 aprile 2025 | 9.30 – 13.00\nWebinar online interattivo \nPartecipazione gratuita\, iscrizione obbligatoria \nISCRIVITI \nLe Comunità Energetiche Rinnovabili (CER) rappresentano una leva strategica per la transizione energetica\, parallelamente la digitalizzazione sta trasformando il settore energetico e ne migliora la gestione. L’evoluzione del quadro normativo\, sia a livello nazionale che regionale\, e le più recenti novità introdotte dal MASE\, ridefiniscono il contesto in cui si sviluppano questi modelli innovativi.\nIl webinar offre un quadro aggiornato su questi temi\, approfondendo strumenti\, opportunità e strategie per favorire la crescita delle Comunità Energetiche e lo sviluppo di nuovi servizi energetici digitali. \nProgramma\n\nComunità Energetiche ed ecosistema digitale per lo sviluppo di nuovi servizi alla luce dell’evoluzione del quadro normativo nazionale e regionale\nL’Analisi dei dati dalle piattaforme IOT. Tecniche di monitoraggio\, i ruoli dell’acquirente unico e del GSE\nNovità del decreto di semplificazione del MASE sulle CER con lo spostamento dei termini per i finanziamenti PNRR\n\nIntroduce \nDott. Gavino Soggia – Consigliere della Camera di Commercio di Sassari \nRelatori\nIng. Mauro Annunziato – Consulente Smart Cities e CER\, già Direttore Divisione Smart Energy ENEA \nDott. Antonio Bertelli – Esperto di contrattualistica pubblica \n  \nSono stati chiesti i CFP ai diversi Ordini/Collegi
URL:https://www.promopa.it/evento/la-revisione-del-sistema-energetico-fondato-sulle-cer-nel-quadro-della-doppia-transizione/
LOCATION:Webinar online gratuito\, Webinar\, Webinar\, Webinar\, Webinar\, Italia
CATEGORIES:Agenda,Convegni
ATTACH;FMTTYPE=image/jpeg:https://www.promopa.it/wp-content/uploads/2021/04/icona_sportello.jpg
END:VEVENT
END:VCALENDAR