BEGIN:VCALENDAR
VERSION:2.0
PRODID:-//Promo P.A. - ECPv5.6.0//NONSGML v1.0//EN
CALSCALE:GREGORIAN
METHOD:PUBLISH
X-WR-CALNAME:Promo P.A.
X-ORIGINAL-URL:https://www.promopa.it
X-WR-CALDESC:Eventi per Promo P.A.
BEGIN:VTIMEZONE
TZID:Europe/Rome
BEGIN:DAYLIGHT
TZOFFSETFROM:+0100
TZOFFSETTO:+0200
TZNAME:CEST
DTSTART:20220327T010000
END:DAYLIGHT
BEGIN:STANDARD
TZOFFSETFROM:+0200
TZOFFSETTO:+0100
TZNAME:CET
DTSTART:20221030T010000
END:STANDARD
END:VTIMEZONE
BEGIN:VEVENT
DTSTART;TZID=Europe/Rome:20220520T093000
DTEND;TZID=Europe/Rome:20220520T113000
DTSTAMP:20260422T223721
CREATED:20220512T102054Z
LAST-MODIFIED:20220512T102141Z
UID:58572-1653039000-1653046200@www.promopa.it
SUMMARY:IL PNRR e l'ambiente
DESCRIPTION:  \n\n  \n  \n\n\n  \n  \n  \nAPPROFONDISCI ED ISCRIVITI
URL:https://www.promopa.it/evento/il-pnrr-e-lambiente/
LOCATION:Webinar online gratuito\, Webinar\, Webinar\, Webinar\, Webinar\, Italia
CATEGORIES:Agenda,Convegni
ATTACH;FMTTYPE=image/jpeg:https://www.promopa.it/wp-content/uploads/2021/02/icona_orep.jpg
END:VEVENT
END:VCALENDAR