BEGIN:VCALENDAR
VERSION:2.0
PRODID:-//Promo P.A. - ECPv5.6.0//NONSGML v1.0//EN
CALSCALE:GREGORIAN
METHOD:PUBLISH
X-WR-CALNAME:Promo P.A.
X-ORIGINAL-URL:https://www.promopa.it
X-WR-CALDESC:Eventi per Promo P.A.
BEGIN:VTIMEZONE
TZID:Europe/Rome
BEGIN:DAYLIGHT
TZOFFSETFROM:+0100
TZOFFSETTO:+0200
TZNAME:CEST
DTSTART:20200329T010000
END:DAYLIGHT
BEGIN:STANDARD
TZOFFSETFROM:+0200
TZOFFSETTO:+0100
TZNAME:CET
DTSTART:20201025T010000
END:STANDARD
END:VTIMEZONE
BEGIN:VEVENT
DTSTART;TZID=Europe/Rome:20200428T100000
DTEND;TZID=Europe/Rome:20200428T113000
DTSTAMP:20260421T105945
CREATED:20200330T105355Z
LAST-MODIFIED:20200415T162504Z
UID:14622-1588068000-1588073400@www.promopa.it
SUMMARY:Come scegliere piattaforma di e-procurement sicure e sostenibili\, per trasformare gli appalti pubblici in leva di ripresa
DESCRIPTION:Le piattaforme di e-procurement sono un fattore abilitante per non interrompere l’operatività dell’ufficio acquisti in una fase di emergenza come quella che stiamo vivendo e per ripartire con la massima efficienza quando sarà terminata. \nNon a caso l’art. 75 del Decreto Cura Italia ridefinisce i rapporti tra Pubblica Amministrazione e fornitori di servizi tecnologia\, evidenziando che “per favorire la diffusione del lavoro agile e di servizi in rete per l’accesso di cittadini e imprese\, quali ulteriori misure di contrasto agli effetti dell’ emergenza Coronavirus\, le PA sono autorizzate\, fino al 31 dicembre 2020\, ad acquistare beni e servizi informatici\, preferibilmente basati sul modello cloud SaaS”. \nIl settore dell’e-procurement richiede d’altra parte agli operatori economici che forniscono le piattaforme grandi capacità investimento per assicurare alle stazioni appaltanti soluzioni sempre in linea con evoluzione tecnologica\, requisiti normativi e di sicurezza. \n• Come selezionare fornitori in grado di sostenere i necessari investimenti nel tempo?\n• Come tradurre i requisiti nei bandi e capitolati di gara?\n• Come si stanno muovendo stazioni appaltanti e il mercato? \nNe parleremo il prossimo 28 aprile in un webinar nel corso del quale saranno presentati i risultati dell’indagine “Analisi di mercato sulla domanda e l’offerta di soluzioni tecnologiche per la gestione integrata del ciclo dell’appalto”\, svolta da Promo PA Fondazione in collaborazione con JAGGAER. \nProgramma\n\n\n\nOre 10.00\nBenvenuto e apertura dei lavori\n\n\nOre 10.15\nPresentazione dell’indagine sulla domanda e l’offerta di soluzioni tecnologiche per la gestione del ciclo dell’appalto\nAnnalisa Giachi\, Responsabile Ricerca di Promo PA Fondazione\n\n\nOre 10.45\nCommentano la ricerca: \n–      Adriano Leli\, SCR Piemonte \n–      Pierdanilo Melandro\, Centrale di Committenza della Regione Marche\n\n\nOre 11.00\nEventuali interventi e discussione con le Stazioni Appaltanti collegate\n\n\nOre 11.20\nConclusioni\nMario Messuri\, General Manager\, JAGGAER Italia e VP South Europe\n\n\n\nLa partecipazione è gratuita!\nISCRIVITI
URL:https://www.promopa.it/evento/come-acquistare-piattaforme-di-e-procurement-pubblico-mitigando-i-rischi-di-fornitura/
LOCATION:Webinar online gratuito\, Webinar\, Webinar\, Webinar\, Webinar\, Italia
CATEGORIES:Agenda,Convegni
ATTACH;FMTTYPE=image/jpeg:https://www.promopa.it/wp-content/uploads/2019/01/agenda_Jaggaer.jpg
END:VEVENT
END:VCALENDAR